BEGIN:VCALENDAR
VERSION:2.0
PRODID:-//VotreSite//AddToCalendar//FR
CALSCALE:GREGORIAN
METHOD:PUBLISH
BEGIN:VEVENT
UID:a0827bc7-ab6f-4d5e-9ced-aaa467374e83@igny.fr
DTSTAMP:20260421T122328Z
DTSTART:20231214T143000
DTEND:20231214T170000
SUMMARY:Thé dansant
DESCRIPTION:
LOCATION:Résidence Les Belleaunes
END:VEVENT
END:VCALENDAR