BEGIN:VCALENDAR
VERSION:2.0
PRODID:-//VotreSite//AddToCalendar//FR
CALSCALE:GREGORIAN
METHOD:PUBLISH
BEGIN:VEVENT
UID:bca36fa9-1f97-4513-9538-16281d6b47ce@igny.fr
DTSTAMP:20260421T100434Z
DTSTART:20241018T210000
DTEND:20241018T220000
SUMMARY:Spectacle : « C&rsquo\;est la faute de personne »
DESCRIPTION:
LOCATION:Centre culturel Isadora Duncan
END:VEVENT
END:VCALENDAR