BEGIN:VCALENDAR
VERSION:2.0
PRODID:-//VotreSite//AddToCalendar//FR
CALSCALE:GREGORIAN
METHOD:PUBLISH
BEGIN:VEVENT
UID:5b6d206d-719f-44e9-98d8-43fd75d63661@igny.fr
DTSTAMP:20260422T083654Z
DTSTART:20250615T100000
DTEND:20250615T120000
SUMMARY:Opération nettoyage RD444
DESCRIPTION:
LOCATION:Le long de la RD444
END:VEVENT
END:VCALENDAR