BEGIN:VCALENDAR
VERSION:2.0
PRODID:-//VotreSite//AddToCalendar//FR
CALSCALE:GREGORIAN
METHOD:PUBLISH
BEGIN:VEVENT
UID:69f62632-3137-4be3-ad44-9685e8452c5e@igny.fr
DTSTAMP:20260421T085247Z
DTSTART:20251119T140000
DTEND:20251119T170000
SUMMARY:La bulle numérique : Atelier parents-enfants 8-11 ans Découverte 
 de la réalité virtuelle
DESCRIPTION:
LOCATION:A la bulle des familles\, 14 rue Ambroise Croizat
END:VEVENT
END:VCALENDAR