BEGIN:VCALENDAR
VERSION:2.0
PRODID:-//VotreSite//AddToCalendar//FR
CALSCALE:GREGORIAN
METHOD:PUBLISH
BEGIN:VEVENT
UID:523c25fa-dfba-43fc-bf93-2778818bcb2b@igny.fr
DTSTAMP:20260421T082221Z
DTSTART:20240907T090000
DTEND:20240907T180000
SUMMARY:Forum des associations
DESCRIPTION:
LOCATION:Terrain d'évolution\, rue Crewkerne
END:VEVENT
END:VCALENDAR