BEGIN:VCALENDAR
VERSION:2.0
PRODID:-//VotreSite//AddToCalendar//FR
CALSCALE:GREGORIAN
METHOD:PUBLISH
BEGIN:VEVENT
UID:931ba652-c64d-41aa-a7f0-208a45ed20ad@igny.fr
DTSTAMP:20260421T082219Z
DTSTART:20260224T090000
DTEND:20260224T173000
SUMMARY:Formation premiers secours (PSC1)
DESCRIPTION:
LOCATION:Salle du conseil\, 23 avenue de la division Leclerc
END:VEVENT
END:VCALENDAR