BEGIN:VCALENDAR
VERSION:2.0
PRODID:-//VotreSite//AddToCalendar//FR
CALSCALE:GREGORIAN
METHOD:PUBLISH
BEGIN:VEVENT
UID:b83bc4fc-2fc6-4d0f-8af7-fbec97bb0d88@igny.fr
DTSTAMP:20260423T150319Z
DTSTART:20250329T140000
DTEND:20250329T180000
SUMMARY:Festival des arts martiaux
DESCRIPTION:
LOCATION:Gymnase Saint Exupéry
END:VEVENT
END:VCALENDAR