BEGIN:VCALENDAR
VERSION:2.0
PRODID:-//VotreSite//AddToCalendar//FR
CALSCALE:GREGORIAN
METHOD:PUBLISH
BEGIN:VEVENT
UID:4f7faf8a-7c84-419f-8388-a537727ce890@igny.fr
DTSTAMP:20260419T125703Z
DTSTART:20241105T100000
DTEND:20241117T183000
SUMMARY:Exposition : « Du réel à l&rsquo\;imaginaire »
DESCRIPTION:
LOCATION:Centre culturel Isadora Duncan
END:VEVENT
END:VCALENDAR