BEGIN:VCALENDAR
VERSION:2.0
PRODID:-//VotreSite//AddToCalendar//FR
CALSCALE:GREGORIAN
METHOD:PUBLISH
BEGIN:VEVENT
UID:a2a47791-af89-4ffd-9d96-5d50c6ee125b@igny.fr
DTSTAMP:20260421T083042Z
DTSTART:20250628T100000
DTEND:20250628T173000
SUMMARY:Challenge des écoles : tennis de table
DESCRIPTION:
LOCATION:Gymnase Guéric Kervadec
END:VEVENT
END:VCALENDAR