BEGIN:VCALENDAR
VERSION:2.0
PRODID:-//VotreSite//AddToCalendar//FR
CALSCALE:GREGORIAN
METHOD:PUBLISH
BEGIN:VEVENT
UID:a3bf5d61-921b-40ec-a6a0-9014307ae9bf@igny.fr
DTSTAMP:20260421T083145Z
DTSTART:20240604T180000
DTEND:20240604T200000
SUMMARY:Café littéraire
DESCRIPTION:
LOCATION:Médiathèque Pierre Seghers
END:VEVENT
END:VCALENDAR