BEGIN:VCALENDAR
VERSION:2.0
PRODID:-//VotreSite//AddToCalendar//FR
CALSCALE:GREGORIAN
METHOD:PUBLISH
BEGIN:VEVENT
UID:0946eaa3-2444-4e9f-aa14-03be428508b9@igny.fr
DTSTAMP:20260420T015951Z
DTSTART:20260321T100000
DTEND:20260322T180000
SUMMARY:27ème édition festival BD&rsquo\;Essonne
DESCRIPTION:
LOCATION:Gymnase Guéric Kervadec
END:VEVENT
END:VCALENDAR